BEGIN:VCALENDAR
VERSION:2.0
PRODID:-//Quietly Armed - ECPv6.15.11//NONSGML v1.0//EN
CALSCALE:GREGORIAN
METHOD:PUBLISH
X-ORIGINAL-URL:https://www.quietlyarmed.com
X-WR-CALDESC:Events for Quietly Armed
REFRESH-INTERVAL;VALUE=DURATION:PT1H
X-Robots-Tag:noindex
X-PUBLISHED-TTL:PT1H
BEGIN:VTIMEZONE
TZID:America/New_York
BEGIN:DAYLIGHT
TZOFFSETFROM:-0500
TZOFFSETTO:-0400
TZNAME:EDT
DTSTART:20240310T070000
END:DAYLIGHT
BEGIN:STANDARD
TZOFFSETFROM:-0400
TZOFFSETTO:-0500
TZNAME:EST
DTSTART:20241103T060000
END:STANDARD
BEGIN:DAYLIGHT
TZOFFSETFROM:-0500
TZOFFSETTO:-0400
TZNAME:EDT
DTSTART:20250309T070000
END:DAYLIGHT
BEGIN:STANDARD
TZOFFSETFROM:-0400
TZOFFSETTO:-0500
TZNAME:EST
DTSTART:20251102T060000
END:STANDARD
BEGIN:DAYLIGHT
TZOFFSETFROM:-0500
TZOFFSETTO:-0400
TZNAME:EDT
DTSTART:20260308T070000
END:DAYLIGHT
BEGIN:STANDARD
TZOFFSETFROM:-0400
TZOFFSETTO:-0500
TZNAME:EST
DTSTART:20261101T060000
END:STANDARD
END:VTIMEZONE
BEGIN:VEVENT
DTSTART;TZID=America/New_York:20250412T090000
DTEND;TZID=America/New_York:20250412T110000
DTSTAMP:20260422T163234
CREATED:20250224T004803Z
LAST-MODIFIED:20250411T120824Z
UID:2259-1744448400-1744455600@www.quietlyarmed.com
SUMMARY:Intro To USPSA - Saturday\, April 12th
DESCRIPTION:Intro To USPSA – Saturday\, April 12th\nThe competitions put on by the United States Practical Shooting Association are some of the most-intense and most-fun shooting matches around. The roots of the USPSA go back almost 50 years and feature some absolute legends in the firearms world. \nShooting a USPSA means  pushing you and your gear to  their limits. The rewards is a fun and exciting day spent on SWFL’s premier competition range and an adrenaline rush like no other.  \nThis class will introduce you to the sport of USPSA and cover topics like: \n\nUSPSA Divisions\nUSPSA Classification\nSafety and Range Rules\nShooting Your First Match\n\nAll students will have an opportunity to shoot a USPSA stage to practice what they’ve learned in class. \nGear Requirements \n\nA 9mm or larger caliber semi-automatic pistol or a .38 caliber revolver. \nA sturdy gun belt\nAn Outside The Waistband (OWB) holster for your pistol (No soft-shell holsters or Serpa Holsters) \nAt least three magazines for your pistol or four speedloaders for a revolver\nMagazine pouches to store your extra magazines on your person\n150 rounds of ammunition\nEye protection\, ear protection\, sunscreen\, bug spray\, water\n\nClass will be on Saturday\, April 12th at 9 am. Sign up below\, or email kevin@quietlyarmed.com for more information.   \nSpread The Word:ShareFacebookEmailTwitter
URL:https://www.quietlyarmed.com/class/intro-to-uspsa-saturday-april-12th
LOCATION:Deep50 Gun Range\, 20201 SR 29\, Naples\, FL\, 34114\, United States
CATEGORIES:Competition,Firearms Training,Pistol
ATTACH;FMTTYPE=image/jpeg:https://www.quietlyarmed.com/wp-content/uploads/2025/02/shooting_uspsa_stage.jpg
ORGANIZER;CN="Quietly Armed":MAILTO:kevin@quietlyarmed.com
END:VEVENT
END:VCALENDAR