BEGIN:VCALENDAR
VERSION:2.0
PRODID:-//Quietly Armed - ECPv6.15.11//NONSGML v1.0//EN
CALSCALE:GREGORIAN
METHOD:PUBLISH
X-WR-CALNAME:Quietly Armed
X-ORIGINAL-URL:https://www.quietlyarmed.com
X-WR-CALDESC:Events for Quietly Armed
REFRESH-INTERVAL;VALUE=DURATION:PT1H
X-Robots-Tag:noindex
X-PUBLISHED-TTL:PT1H
BEGIN:VTIMEZONE
TZID:America/New_York
BEGIN:DAYLIGHT
TZOFFSETFROM:-0500
TZOFFSETTO:-0400
TZNAME:EDT
DTSTART:20230312T070000
END:DAYLIGHT
BEGIN:STANDARD
TZOFFSETFROM:-0400
TZOFFSETTO:-0500
TZNAME:EST
DTSTART:20231105T060000
END:STANDARD
BEGIN:DAYLIGHT
TZOFFSETFROM:-0500
TZOFFSETTO:-0400
TZNAME:EDT
DTSTART:20240310T070000
END:DAYLIGHT
BEGIN:STANDARD
TZOFFSETFROM:-0400
TZOFFSETTO:-0500
TZNAME:EST
DTSTART:20241103T060000
END:STANDARD
BEGIN:DAYLIGHT
TZOFFSETFROM:-0500
TZOFFSETTO:-0400
TZNAME:EDT
DTSTART:20250309T070000
END:DAYLIGHT
BEGIN:STANDARD
TZOFFSETFROM:-0400
TZOFFSETTO:-0500
TZNAME:EST
DTSTART:20251102T060000
END:STANDARD
END:VTIMEZONE
BEGIN:VEVENT
DTSTART;TZID=America/New_York:20240504T090000
DTEND;TZID=America/New_York:20240504T120000
DTSTAMP:20260421T091319
CREATED:20240420T202440Z
LAST-MODIFIED:20240420T202627Z
UID:1696-1714813200-1714824000@www.quietlyarmed.com
SUMMARY:Self Defense Outside The Home (Pistolcraft 101)
DESCRIPTION:Self Defense Outside The Home (Pistolcraft 101)\nIf you own a gun\, you are exercising your right to keep arms.\nThis classes teaches you how to bear arms.\nThese days\, personal defense is the #1 reason why people buy guns. A gun and a concealed carry license by themselves\, however\, doesn’t provide you any protection anymore than buying a guitar and some sheet music provides musical talent. This class covers the essentials of using a pistol to defend yourself as you live your everyday life. \nWe keep this three-hour class small (just six students) in order to maximize the 1-1 training opportunities. The instruction is focused on helping you make the transition from being just a gun owner to someone who has the skills and confidence to defend what is most important in your life. \nThis class is designed to show people how to make the transition from just have a piece of paper that says you MAY carry a defensive firearm with you to someone who has the skills and confidence to carry on a regular basis. \nTopics covered will include: \n\nHow to get your gun into the fight as fast as possible\nSafe use of a holster\nThe use of a pistol as a defensive firearm\nMaking the shot on-demand\nAdvanced accuracy techniques\nAt the completion of this course\, each student will understand how to keep their firearm concealed until it is needed.\nThey will also know how to quickly and effiecently deploy it in a safe manner should the need arise.\n\nSpread The Word:ShareFacebookEmailTwitter
URL:https://www.quietlyarmed.com/class/self-defense-outside-the-home-pistolcraft-101
LOCATION:Deep50 Gun Range\, 20201 SR 29\, Naples\, FL\, 34114\, United States
CATEGORIES:Firearms Training,Pistol
ORGANIZER;CN="Quietly Armed":MAILTO:kevin@quietlyarmed.com
END:VEVENT
END:VCALENDAR